BEGIN:VCALENDAR
VERSION:2.0
PRODID:-//Crusaders - ECPv6.15.20//NONSGML v1.0//EN
CALSCALE:GREGORIAN
METHOD:PUBLISH
X-ORIGINAL-URL:https://crusaders.space
X-WR-CALDESC:Veranstaltungen für Crusaders
REFRESH-INTERVAL;VALUE=DURATION:PT1H
X-Robots-Tag:noindex
X-PUBLISHED-TTL:PT1H
BEGIN:VTIMEZONE
TZID:UTC
BEGIN:STANDARD
TZOFFSETFROM:+0000
TZOFFSETTO:+0000
TZNAME:UTC
DTSTART:20250101T000000
END:STANDARD
END:VTIMEZONE
BEGIN:VEVENT
DTSTART;VALUE=DATE:20260329
DTEND;VALUE=DATE:20260410
DTSTAMP:20260419T194015
CREATED:20251116T131213Z
LAST-MODIFIED:20260123T142927Z
UID:30-1774742400-1775779199@crusaders.space
SUMMARY:Rund Skagen
DESCRIPTION:Es gibt drei Varianten\, die Langsame\, die Schnelle und die ganz ohne Stopps! \nWenn ihr Interesse habt bitte die bevorzugte Variante mit angeben\, bei allen Varianten ist der Abschnitt bis Helgoland gleich. \n\n\n\n\n\n\n\n\n\n\n\n\n\nDatum\nVon\nNach\nStart\nMeilen\n\nAlterntive B\n\nAlternative C\n\n\n29.03.2025\nHamburg\nCuxhaven\n01:30h\n55\n\n1\n\n\n\n\n30.03.2025\nCuxhaven\nHelgoland\n12:30h\n35\n\n1\n\n\n\n\n31.03.2025\nHelgoland\n\n\n\n\n1\n31.03.2026\n31.03.2026\n\n\n01.04.2025\nHelgoland\nEsbjerg\n\n80\n\n\n\n\n\n\n02.04.2025\nEsbjerg\nThyboron\n\n80\n\n\n\n\n\n\n03.04.2025\nThyboron\nHirtshals\n\n85\n245\n2\n02.04.2026\n\n\n\n04.04.2025\nHirtshals\nFrederikshavn\n\n60\n\n\n\n\n\n\n05.04.2025\nFrederikshavn\nAahrhus\n\n90\n150\n1\n03.04.2026\n\n\n\n06.04.2025\nAahrhus\n\n\n\n\n1\n04.04.2026\n\n\n\n07.04.2025\nAahrhus\nKonsor\n\n60\n\n\n\n\n\n\n08.04.2025\nKonsor\nKiel\n\n70\n130\n1\n05.04.2026\n04.04.\n\n\n\n\n\n\n630\n\n\n\n\n\n\n\n\n\n\n\n\n\n\n\n\n\n\n\n\n\n\n\n\n\n\n\n\n\n\n\n\n\n\n\n\n\n\n\n\n 
URL:https://crusaders.space/event/rund-skagen/
END:VEVENT
END:VCALENDAR