BEGIN:VCALENDAR
VERSION:2.0
PRODID:-//Crusaders - ECPv6.15.20//NONSGML v1.0//EN
CALSCALE:GREGORIAN
METHOD:PUBLISH
X-ORIGINAL-URL:https://crusaders.space
X-WR-CALDESC:Veranstaltungen für Crusaders
REFRESH-INTERVAL;VALUE=DURATION:PT1H
X-Robots-Tag:noindex
X-PUBLISHED-TTL:PT1H
BEGIN:VTIMEZONE
TZID:Europe/Berlin
BEGIN:DAYLIGHT
TZOFFSETFROM:+0100
TZOFFSETTO:+0200
TZNAME:CEST
DTSTART:20250330T010000
END:DAYLIGHT
BEGIN:STANDARD
TZOFFSETFROM:+0200
TZOFFSETTO:+0100
TZNAME:CET
DTSTART:20251026T010000
END:STANDARD
BEGIN:DAYLIGHT
TZOFFSETFROM:+0100
TZOFFSETTO:+0200
TZNAME:CEST
DTSTART:20260329T010000
END:DAYLIGHT
BEGIN:STANDARD
TZOFFSETFROM:+0200
TZOFFSETTO:+0100
TZNAME:CET
DTSTART:20261025T010000
END:STANDARD
BEGIN:DAYLIGHT
TZOFFSETFROM:+0100
TZOFFSETTO:+0200
TZNAME:CEST
DTSTART:20270328T010000
END:DAYLIGHT
BEGIN:STANDARD
TZOFFSETFROM:+0200
TZOFFSETTO:+0100
TZNAME:CET
DTSTART:20271031T010000
END:STANDARD
END:VTIMEZONE
BEGIN:VEVENT
DTSTART;VALUE=DATE:20260516
DTEND;VALUE=DATE:20260531
DTSTAMP:20260419T212125
CREATED:20251128T103001Z
LAST-MODIFIED:20251128T103057Z
UID:54-1778889600-1780185599@crusaders.space
SUMMARY:Kopenhagen 	(Rund Seeland)	16.05.-30.05.
DESCRIPTION:Teilnehmer: 1 \n\n\n\n\n\n\n\n\n\n\n\n\n\nGesamt:\n359\n\n\n\nDatum\nVon\nNach\nStart\nMeilen\nBemerkung\n\n\n17.05.2026\nKiel\nBurgtiefe\n09:00h\n38\n\n\n\n18.05.2026\nBurgtiefe\nGedser\n\n35\n\n\n\n19.05.2026\nGedser\nKlintholm\n\n35\n\n\n\n20.05.2026\nKlintholm\nRodvig\n\n20\n\n\n\n21.05.2026\nRodvig\nKopenhagen\n\n35\n\n\n\n22.05.2026\nKopenhagen\n\n\n\n\n\n\n23.05.2026\nKopenhagen\nGilleleje\n\n32\n\n\n\n24.05.2026\nGilleleje\nHavnebyen\n\n33\n\n\n\n25.05.2026\nHavnebyen\nKallundborg\n\n35\n\n\n\n26.05.2026\nKallundborg\nNyborg\n\n34\n\n\n\n27.05.2026\nNyborg\nRudköbing/Marstal\n\n22\n\n\n\n28.05.2026\nRudköbing/Marstal\nKiel\n\n40
URL:https://crusaders.space/event/kopenhagen-rund-seeland16-05-30-05/
END:VEVENT
END:VCALENDAR