BEGIN:VCALENDAR
VERSION:2.0
PRODID:-//Crusaders - ECPv6.15.20//NONSGML v1.0//EN
CALSCALE:GREGORIAN
METHOD:PUBLISH
X-WR-CALNAME:Crusaders
X-ORIGINAL-URL:https://crusaders.space
X-WR-CALDESC:Veranstaltungen für Crusaders
REFRESH-INTERVAL;VALUE=DURATION:PT1H
X-Robots-Tag:noindex
X-PUBLISHED-TTL:PT1H
BEGIN:VTIMEZONE
TZID:Europe/Berlin
BEGIN:DAYLIGHT
TZOFFSETFROM:+0100
TZOFFSETTO:+0200
TZNAME:CEST
DTSTART:20250330T010000
END:DAYLIGHT
BEGIN:STANDARD
TZOFFSETFROM:+0200
TZOFFSETTO:+0100
TZNAME:CET
DTSTART:20251026T010000
END:STANDARD
BEGIN:DAYLIGHT
TZOFFSETFROM:+0100
TZOFFSETTO:+0200
TZNAME:CEST
DTSTART:20260329T010000
END:DAYLIGHT
BEGIN:STANDARD
TZOFFSETFROM:+0200
TZOFFSETTO:+0100
TZNAME:CET
DTSTART:20261025T010000
END:STANDARD
BEGIN:DAYLIGHT
TZOFFSETFROM:+0100
TZOFFSETTO:+0200
TZNAME:CEST
DTSTART:20270328T010000
END:DAYLIGHT
BEGIN:STANDARD
TZOFFSETFROM:+0200
TZOFFSETTO:+0100
TZNAME:CET
DTSTART:20271031T010000
END:STANDARD
END:VTIMEZONE
BEGIN:VEVENT
DTSTART;VALUE=DATE:20260704
DTEND;VALUE=DATE:20260713
DTSTAMP:20260420T000639
CREATED:20251128T103751Z
LAST-MODIFIED:20251128T103751Z
UID:63-1783123200-1783900799@crusaders.space
SUMMARY:Aarhus
DESCRIPTION:Teilnehmer: 0 \n  \n\n\n\n\n\n\n\n\n\n\n\n\n\nGesamt:\n251\n\n\n\nDatum\nVon\nNach\nStart\nMeilen\nBemerkung\n\n\n04.07.2026\nKiel\nMarstal\n\n33\n\n\n\n05.07.2026\nMarstal\nKorsor\n\n35\n\n\n\n06.07.2026\nKorsor\nKolby Kas\n\n35\n\n\n\n07.07.2026\nKolby Kas\nAarhus\n\n25\n\n\n\n08.07.2026\nAarhus\n\n\n\n\n\n\n09.07.2026\nAarhus\nKolby Kas\n\n25\n\n\n\n10.07.2026\nKolby Kas\nNyborg\n\n35\n\n\n\n11.07.2026\nNyborg\nRudkobing\n\n23\n\n\n\n12.07.2026\nRudkobing\nKiel\n\n40
URL:https://crusaders.space/event/aarhus/
END:VEVENT
END:VCALENDAR