BEGIN:VCALENDAR
VERSION:2.0
PRODID:-//Crusaders - ECPv6.15.20//NONSGML v1.0//EN
CALSCALE:GREGORIAN
METHOD:PUBLISH
X-WR-CALNAME:Crusaders
X-ORIGINAL-URL:https://crusaders.space
X-WR-CALDESC:Veranstaltungen für Crusaders
REFRESH-INTERVAL;VALUE=DURATION:PT1H
X-Robots-Tag:noindex
X-PUBLISHED-TTL:PT1H
BEGIN:VTIMEZONE
TZID:Europe/Berlin
BEGIN:DAYLIGHT
TZOFFSETFROM:+0100
TZOFFSETTO:+0200
TZNAME:CEST
DTSTART:20250330T010000
END:DAYLIGHT
BEGIN:STANDARD
TZOFFSETFROM:+0200
TZOFFSETTO:+0100
TZNAME:CET
DTSTART:20251026T010000
END:STANDARD
BEGIN:DAYLIGHT
TZOFFSETFROM:+0100
TZOFFSETTO:+0200
TZNAME:CEST
DTSTART:20260329T010000
END:DAYLIGHT
BEGIN:STANDARD
TZOFFSETFROM:+0200
TZOFFSETTO:+0100
TZNAME:CET
DTSTART:20261025T010000
END:STANDARD
BEGIN:DAYLIGHT
TZOFFSETFROM:+0100
TZOFFSETTO:+0200
TZNAME:CEST
DTSTART:20270328T010000
END:DAYLIGHT
BEGIN:STANDARD
TZOFFSETFROM:+0200
TZOFFSETTO:+0100
TZNAME:CET
DTSTART:20271031T010000
END:STANDARD
END:VTIMEZONE
BEGIN:VEVENT
DTSTART;TZID=Europe/Berlin:20260718T080000
DTEND;TZID=Europe/Berlin:20260724T170000
DTSTAMP:20260420T001445
CREATED:20251128T104029Z
LAST-MODIFIED:20251128T104029Z
UID:65-1784361600-1784912400@crusaders.space
SUMMARY:Aarhus schnell
DESCRIPTION:Teilnehmer: 0 \n\n\n\n\n\n\n\n\n\n\n\n\n\nGesamt:\n300\n\n\n\nDatum\nVon\nNach\nStart\nMeilen\nBemerkung\n\n\n19.07.2026\nKiel\n\n\n\n\n\n\n20.07.2026\n\nAarhus\n\n150\n\n\n\n21.07.2026\nAarhus\n\n\n\n\n\n\n22.07.2026\nAarhus\n\n\n\n\n\n\n23.07.2026\nAarhus\n\n\n\n\n\n\n24.07.2026\n\nKiel\n\n150
URL:https://crusaders.space/event/aarhus-schnell/
END:VEVENT
END:VCALENDAR