BEGIN:VCALENDAR
VERSION:2.0
PRODID:-//Crusaders - ECPv6.15.20//NONSGML v1.0//EN
CALSCALE:GREGORIAN
METHOD:PUBLISH
X-ORIGINAL-URL:https://crusaders.space
X-WR-CALDESC:Veranstaltungen für Crusaders
REFRESH-INTERVAL;VALUE=DURATION:PT1H
X-Robots-Tag:noindex
X-PUBLISHED-TTL:PT1H
BEGIN:VTIMEZONE
TZID:Europe/Berlin
BEGIN:DAYLIGHT
TZOFFSETFROM:+0100
TZOFFSETTO:+0200
TZNAME:CEST
DTSTART:20250330T010000
END:DAYLIGHT
BEGIN:STANDARD
TZOFFSETFROM:+0200
TZOFFSETTO:+0100
TZNAME:CET
DTSTART:20251026T010000
END:STANDARD
BEGIN:DAYLIGHT
TZOFFSETFROM:+0100
TZOFFSETTO:+0200
TZNAME:CEST
DTSTART:20260329T010000
END:DAYLIGHT
BEGIN:STANDARD
TZOFFSETFROM:+0200
TZOFFSETTO:+0100
TZNAME:CET
DTSTART:20261025T010000
END:STANDARD
BEGIN:DAYLIGHT
TZOFFSETFROM:+0100
TZOFFSETTO:+0200
TZNAME:CEST
DTSTART:20270328T010000
END:DAYLIGHT
BEGIN:STANDARD
TZOFFSETFROM:+0200
TZOFFSETTO:+0100
TZNAME:CET
DTSTART:20271031T010000
END:STANDARD
END:VTIMEZONE
BEGIN:VEVENT
DTSTART;VALUE=DATE:20260808
DTEND;VALUE=DATE:20260823
DTSTAMP:20260420T014014
CREATED:20251128T104238Z
LAST-MODIFIED:20251128T104238Z
UID:67-1786147200-1787443199@crusaders.space
SUMMARY:Ystad	08.08.26 - 22.08.26
DESCRIPTION:Teilnehmer: 1 \n\n\n\n\n\n\n\n\n\n\n\n\n\nGesamt:\n336\n\n\n\nDatum\nVon\nNach\nStart\nMeilen\nBemerkung\n\n\n09.08.2026\nKiel\nBurgtiefe\n09:00h\n38\n\n\n\n10.08.2026\nBurgtiefe\nGedser\n\n35\n\n\n\n11.08.2026\nGedser\nKlintholm\n\n35\n\n\n\n12.08.2026\nKlintholm\nTrelleborg\n\n35\n\n\n\n13.08.2026\nTrelleborg\nYstad\n\n25\n\n\n\n14.08.2026\nYstad\n\n\n\n\n\n\n15.08.2026\nYstad\nTrelleborg\n\n32\n\n\n\n16.08.2026\nTrelleborg\nKlintholm\n\n33\n\n\n\n17.08.2026\nKlintholm\nGedser\n\n35\n\n\n\n18.08.2026\nGedser\nRödby\n\n23\n\n\n\n19.08.2026\nRödby\nWendtorf\n\n35\n\n\n\n20.08.2026\nRudköbing/Marstal\nKiel\n\n10
URL:https://crusaders.space/event/ystad08-08-26-22-08-26/
END:VEVENT
END:VCALENDAR