BEGIN:VCALENDAR
VERSION:2.0
PRODID:-//Crusaders - ECPv6.15.20//NONSGML v1.0//EN
CALSCALE:GREGORIAN
METHOD:PUBLISH
X-ORIGINAL-URL:https://crusaders.space
X-WR-CALDESC:Veranstaltungen für Crusaders
REFRESH-INTERVAL;VALUE=DURATION:PT1H
X-Robots-Tag:noindex
X-PUBLISHED-TTL:PT1H
BEGIN:VTIMEZONE
TZID:Europe/Berlin
BEGIN:DAYLIGHT
TZOFFSETFROM:+0100
TZOFFSETTO:+0200
TZNAME:CEST
DTSTART:20250330T010000
END:DAYLIGHT
BEGIN:STANDARD
TZOFFSETFROM:+0200
TZOFFSETTO:+0100
TZNAME:CET
DTSTART:20251026T010000
END:STANDARD
BEGIN:DAYLIGHT
TZOFFSETFROM:+0100
TZOFFSETTO:+0200
TZNAME:CEST
DTSTART:20260329T010000
END:DAYLIGHT
BEGIN:STANDARD
TZOFFSETFROM:+0200
TZOFFSETTO:+0100
TZNAME:CET
DTSTART:20261025T010000
END:STANDARD
BEGIN:DAYLIGHT
TZOFFSETFROM:+0100
TZOFFSETTO:+0200
TZNAME:CEST
DTSTART:20270328T010000
END:DAYLIGHT
BEGIN:STANDARD
TZOFFSETFROM:+0200
TZOFFSETTO:+0100
TZNAME:CET
DTSTART:20271031T010000
END:STANDARD
BEGIN:DAYLIGHT
TZOFFSETFROM:+0100
TZOFFSETTO:+0200
TZNAME:CEST
DTSTART:20280326T010000
END:DAYLIGHT
BEGIN:STANDARD
TZOFFSETFROM:+0200
TZOFFSETTO:+0100
TZNAME:CET
DTSTART:20281029T010000
END:STANDARD
END:VTIMEZONE
BEGIN:VEVENT
DTSTART;TZID=Europe/Berlin:20260829T080000
DTEND;TZID=Europe/Berlin:20270903T170000
DTSTAMP:20260420T081134
CREATED:20251128T104518Z
LAST-MODIFIED:20251128T104518Z
UID:69-1787990400-1819990800@crusaders.space
SUMMARY:Rund Aero
DESCRIPTION:Teilnehmer: 0 \n\n\n\n\n\n\n\n\n\n\n\n\n\nGesamt:\n100\n\n\n\nDatum\nVon\nNach\nStart\nMeilen\nBemerkung\n\n\n30.08.2026\nKiel\nMarstal\n\n33\n\n\n\n31.08.2026\nMarstal\nAeroskobing\n\n12\n\n\nHaupsächlich unter Motor\n\n\n\n\n01.09.2026\nAeroskobing\nSoby\n\n10\n\n\n\n02.09.2026\nSoby\nOlpenitz\n\n25\n\n\n\n03.09.2026\nOlpenitz\nKiel\n\n20
URL:https://crusaders.space/event/rund-aero/
END:VEVENT
END:VCALENDAR